BEGIN:VCALENDAR
VERSION:2.0
PRODID:-//Southern California Orthodontic Assisting School - ECPv6.15.13//NONSGML v1.0//EN
CALSCALE:GREGORIAN
METHOD:PUBLISH
X-ORIGINAL-URL:https://www.socalorthoassisting.com
X-WR-CALDESC:Events for Southern California Orthodontic Assisting School
REFRESH-INTERVAL;VALUE=DURATION:PT1H
X-Robots-Tag:noindex
X-PUBLISHED-TTL:PT1H
BEGIN:VTIMEZONE
TZID:UTC
BEGIN:STANDARD
TZOFFSETFROM:+0000
TZOFFSETTO:+0000
TZNAME:UTC
DTSTART:20250101T000000
END:STANDARD
END:VTIMEZONE
BEGIN:VEVENT
DTSTART;TZID=UTC:20260314T100000
DTEND;TZID=UTC:20260314T100000
DTSTAMP:20260423T173935
CREATED:20260123T224230Z
LAST-MODIFIED:20260123T224230Z
UID:17401-1773482400-1773482400@www.socalorthoassisting.com
SUMMARY:Basic Life Support
DESCRIPTION:Open to the general public! Whether you’re a stay-at-home parent or a health care provider\, anyone can benefit from being CPR certified. Learn how to save a life with us. Accredited with the American Heart Association (AHA)\, your instructor will review proper techniques for CPR & choking on adult\, child & infant victims. $60.00 for certification (must bring BLS provider manual to class) BLS booklet is $19 if you do not have one and can be purchased in person day of class. Can’t make this class? Call and sign up for the next one! (951)465-7370
URL:https://www.socalorthoassisting.com/event/basic-life-support-27/
LOCATION:Corona Location\, 710 Rimpau Ave. #201\, Corona\, CA\, 92879\, United States
CATEGORIES:Renewals
ORGANIZER;CN="Southern California Orthodontic Assisting School":MAILTO:info@socalorthoassisting.com
END:VEVENT
BEGIN:VEVENT
DTSTART;TZID=UTC:20260314T130000
DTEND;TZID=UTC:20260314T130000
DTSTAMP:20260423T173935
CREATED:20260123T232714Z
LAST-MODIFIED:20260125T173523Z
UID:17403-1773493200-1773493200@www.socalorthoassisting.com
SUMMARY:8-Hour Infection Control
DESCRIPTION:Receive certification same day!\n\n8 CE units granted upon completion\nApproved by the Dental Board of CA\nGroup discount available!\n\nLearn the principles of infection control with lectures and simulations to achieve optimal safety and prevention of transmissible diseases!\n\nBloodborne Pathogens\nHandwashing techniques\nSterilization & Monitoring\nWaterlines Maintenance\nChair Unit Disinfection\nAnd More!\n\nStay in Compliance\, Call Today to Enroll!\n(951) 465-7370
URL:https://www.socalorthoassisting.com/event/8-hour-infection-control-34/
LOCATION:Corona Location\, 710 Rimpau Ave. #201\, Corona\, CA\, 92879\, United States
CATEGORIES:Renewals
ORGANIZER;CN="Southern California Orthodontic Assisting School":MAILTO:info@socalorthoassisting.com
END:VEVENT
END:VCALENDAR