BEGIN:VCALENDAR
VERSION:2.0
PRODID:-//Southern California Orthodontic Assisting School - ECPv6.15.13//NONSGML v1.0//EN
CALSCALE:GREGORIAN
METHOD:PUBLISH
X-WR-CALNAME:Southern California Orthodontic Assisting School
X-ORIGINAL-URL:https://www.socalorthoassisting.com
X-WR-CALDESC:Events for Southern California Orthodontic Assisting School
REFRESH-INTERVAL;VALUE=DURATION:PT1H
X-Robots-Tag:noindex
X-PUBLISHED-TTL:PT1H
BEGIN:VTIMEZONE
TZID:UTC
BEGIN:STANDARD
TZOFFSETFROM:+0000
TZOFFSETTO:+0000
TZNAME:UTC
DTSTART:20240101T000000
END:STANDARD
END:VTIMEZONE
BEGIN:VEVENT
DTSTART;TZID=UTC:20250906T090000
DTEND;TZID=UTC:20250906T130000
DTSTAMP:20260424T025559
CREATED:20250413T195616Z
LAST-MODIFIED:20250813T183814Z
UID:14814-1757149200-1757163600@www.socalorthoassisting.com
SUMMARY:6 Week Orthodontic Assistant Program - Accelerated
DESCRIPTION:The Orthodontic Assisting Permit course reviews all core components of orthodontic assisting including but not limited to:\n• Ultrasonic scaling\n• Malocclusion\n• Auxiliaries\n• Lab work\n• Banding\n• Bonding\n• Debanding\n• Diagnostic records \nGeneral Information:\n• Class is held twice a week for 3 weeks\n• 4-5 hours per session\n• We provide all materials needed in class\n• 32-hour externship (Internship assistance available)\n** Job placement assistance available for students receiving a final grade of 90% or higher **
URL:https://www.socalorthoassisting.com/event/6-week-orthodontic-assistant-program-2/
LOCATION:Corona Location\, 710 Rimpau Ave. #201\, Corona\, CA\, 92879\, United States
CATEGORIES:OA Program
ORGANIZER;CN="Southern California Orthodontic Assisting School":MAILTO:info@socalorthoassisting.com
END:VEVENT
BEGIN:VEVENT
DTSTART;TZID=UTC:20250921T140000
DTEND;TZID=UTC:20250921T140000
DTSTAMP:20260424T025559
CREATED:20250813T200409Z
LAST-MODIFIED:20250831T211714Z
UID:14909-1758463200-1758463200@www.socalorthoassisting.com
SUMMARY:8-Hour Infection Control - Full
DESCRIPTION:Receive certification same day!\n\n8 CE units granted upon completion\nApproved by the Dental Board of CA\nGroup discount available!\n\nLearn the principles of infection control with lectures and simulations to achieve optimal safety and prevention of transmissible diseases!\n\nBloodborne Pathogens\nHandwashing techniques\nSterilization & Monitoring\nWaterlines Maintenance\nChair Unit Disinfection\nAnd More!\n\nStay in Compliance\, Call Today to Enroll!\n(951) 465-7370
URL:https://www.socalorthoassisting.com/event/8-hour-infection-control-30/
LOCATION:Corona Location\, 710 Rimpau Ave. #201\, Corona\, CA\, 92879\, United States
ORGANIZER;CN="Southern California Orthodontic Assisting School":MAILTO:info@socalorthoassisting.com
END:VEVENT
END:VCALENDAR