BEGIN:VCALENDAR
VERSION:2.0
PRODID:-//Southern California Orthodontic Assisting School - ECPv6.15.13//NONSGML v1.0//EN
CALSCALE:GREGORIAN
METHOD:PUBLISH
X-WR-CALNAME:Southern California Orthodontic Assisting School
X-ORIGINAL-URL:https://www.socalorthoassisting.com
X-WR-CALDESC:Events for Southern California Orthodontic Assisting School
REFRESH-INTERVAL;VALUE=DURATION:PT1H
X-Robots-Tag:noindex
X-PUBLISHED-TTL:PT1H
BEGIN:VTIMEZONE
TZID:UTC
BEGIN:STANDARD
TZOFFSETFROM:+0000
TZOFFSETTO:+0000
TZNAME:UTC
DTSTART:20230101T000000
END:STANDARD
END:VTIMEZONE
BEGIN:VEVENT
DTSTART;TZID=UTC:20240210T100000
DTEND;TZID=UTC:20240210T140000
DTSTAMP:20260425T133125
CREATED:20240108T195754Z
LAST-MODIFIED:20240114T184821Z
UID:14076-1707559200-1707573600@www.socalorthoassisting.com
SUMMARY:Basic Life Support
DESCRIPTION:Open to the general public!\nWhether you’re a stay-at-home parent or a health care provider\, anyone can benefit from being CPR certified. Learn how to save a life with us. Accredited with the American Heart Association (AHA)\, your instructor will review proper techniques for CPR & choking on adult\, child & infant victims. $60.00 for certification (must bring BLS provider manual to class) \nBLS booklet is $19 if you do not have one and can be purchased in person day of class.\nCan’t make this class? \nCall and sign up for the next one!\n(951)465-7370
URL:https://www.socalorthoassisting.com/event/basic-life-support-13/
LOCATION:CA
ORGANIZER;CN="Southern California Orthodontic Assisting School":MAILTO:info@socalorthoassisting.com
END:VEVENT
BEGIN:VEVENT
DTSTART;TZID=UTC:20240210T130000
DTEND;TZID=UTC:20240210T180000
DTSTAMP:20260425T133125
CREATED:20240108T195158Z
LAST-MODIFIED:20240108T195158Z
UID:14074-1707570000-1707588000@www.socalorthoassisting.com
SUMMARY:8-Hour Infection Control
DESCRIPTION:Receive certification same day!\n\n8 CE units granted upon completion\nApproved by the Dental Board of CA\nGroup discount available!\n\nLearn the principles of infection control with lecture and simulation to achieve optimal safety and prevention of transmissible diseases!\n\nBloodborne Pathogens\nHandwashing techniques\nSterilization & Monitoring\nWaterlines Maintenance\nChair Unite Disinfection\nAnd More!\n\nStay in Compliance\, Call Today to Enroll!\n(951) 465-7370
URL:https://www.socalorthoassisting.com/event/8-hour-infection-control-17/
LOCATION:Corona Location\, 710 Rimpau Ave. #201\, Corona\, CA\, 92879\, United States
ORGANIZER;CN="Southern California Orthodontic Assisting School":MAILTO:info@socalorthoassisting.com
END:VEVENT
BEGIN:VEVENT
DTSTART;TZID=UTC:20240218T090000
DTEND;TZID=UTC:20240218T130000
DTSTAMP:20260425T133125
CREATED:20240108T204844Z
LAST-MODIFIED:20240108T204844Z
UID:14078-1708246800-1708261200@www.socalorthoassisting.com
SUMMARY:6-Week Orthodontic Assisting Permit Program
DESCRIPTION:The Orthodontic Assisting Permit course reviews all core components of orthodontic assisting including but not limited to:• Malocclusion\n• Auxiliaries\n• Lab work\n• Banding\n• Bonding\n• Debanding\n• Diagnostic records \nThe requirements for taking the OA Permit course are below:\n• Current RDA (EF) license OR\n• Completed DA program OR\n• Employed under a licensed dentist for a minimum 6 months \nGeneral Information:\n• Class is held once a week for 6 weeks\n• 4-5 hours per session\n• We provide all materials needed in class\n• 32-hour externship (Internship assistance available)\n** Job placement assistance available for students receiving a final grade of 90% or higher ** \nCourse Price: $1\,150.00
URL:https://www.socalorthoassisting.com/event/6-week-orthodontic-assisting-permit-program/
LOCATION:Corona Location\, 710 Rimpau Ave. #201\, Corona\, CA\, 92879\, United States
ORGANIZER;CN="Southern California Orthodontic Assisting School":MAILTO:info@socalorthoassisting.com
END:VEVENT
BEGIN:VEVENT
DTSTART;TZID=UTC:20240218T090000
DTEND;TZID=UTC:20240218T130000
DTSTAMP:20260425T133125
CREATED:20240129T003942Z
LAST-MODIFIED:20240129T003942Z
UID:14121-1708246800-1708261200@www.socalorthoassisting.com
SUMMARY:Ultrasonic Scaling Permit
DESCRIPTION:Band Cement Removal Techniques | Ergomonics | Indications & Contra-Indications of Scaling \n\nBand Cement Removal Techniques\nCertification is required for OAP exam\n4 CE units\n4-hour course\n\nAnd more!!!
URL:https://www.socalorthoassisting.com/event/ultrasonic-scaling-permit-3/
LOCATION:Corona Location\, 710 Rimpau Ave. #201\, Corona\, CA\, 92879\, United States
ORGANIZER;CN="Southern California Orthodontic Assisting School":MAILTO:info@socalorthoassisting.com
END:VEVENT
BEGIN:VEVENT
DTSTART;TZID=UTC:20240220T180000
DTEND;TZID=UTC:20240220T184500
DTSTAMP:20260425T133125
CREATED:20240212T005314Z
LAST-MODIFIED:20240212T005619Z
UID:14149-1708452000-1708454700@www.socalorthoassisting.com
SUMMARY:Join Us for a Fun OA Study Session!
DESCRIPTION:Study. Play. Learn. How will you spend your Tuesday night?\nLet us help you boost your confidence before the big day!\nWe would love for you to join us as we review key study material to prepare you to reach your goal! Ace that examination and expand your duties with us. Have friends that are also preparing for the big test? Invite them to join too! We are here to help our Orthodontic Assisting community.What you’ll want to have ready:\nA notebook\nPencil\nSmartphone or laptopWhat we’ll provide:\nStudy questions\nKnowledge\nConfidence \nWhen: 2/20 at 6:00 pm\nWhere: Online through Zoom\nJoin Zoom Meeting\nhttps://us05web.zoom.us/j/87508090446?pwd=LaACqfbIqE7XKf24B7VGLzFiWqLUla.1 \nMeeting ID: 875 0809 0446\nPasscode: OA2024 \nMUST download zoom app before the study group begins!\nThe Zoom link will become active 15 minutes before the event start time.\nWe’re here to help you grow. \nSoCal Ortho Assisting\n(951)465-7370
URL:https://www.socalorthoassisting.com/event/join-us-for-a-fun-oa-study-session/
LOCATION:Online Activity
ORGANIZER;CN="Southern California Orthodontic Assisting School":MAILTO:info@socalorthoassisting.com
END:VEVENT
END:VCALENDAR