BEGIN:VCALENDAR
VERSION:2.0
PRODID:-//Southern California Orthodontic Assisting School - ECPv6.15.13//NONSGML v1.0//EN
CALSCALE:GREGORIAN
METHOD:PUBLISH
X-ORIGINAL-URL:https://www.socalorthoassisting.com
X-WR-CALDESC:Events for Southern California Orthodontic Assisting School
REFRESH-INTERVAL;VALUE=DURATION:PT1H
X-Robots-Tag:noindex
X-PUBLISHED-TTL:PT1H
BEGIN:VTIMEZONE
TZID:UTC
BEGIN:STANDARD
TZOFFSETFROM:+0000
TZOFFSETTO:+0000
TZNAME:UTC
DTSTART:20230101T000000
END:STANDARD
END:VTIMEZONE
BEGIN:VEVENT
DTSTART;TZID=UTC:20240107T090000
DTEND;TZID=UTC:20240107T130000
DTSTAMP:20260425T152125
CREATED:20231108T200921Z
LAST-MODIFIED:20231108T200939Z
UID:13958-1704618000-1704632400@www.socalorthoassisting.com
SUMMARY:6-Week Orthodontic Assisting Permit Start Date
DESCRIPTION:The Orthodontic Assisting Permit course reviews all core components of orthodontic assisting including but not limited to:\n• Malocclusion\n• Auxiliaries\n• Lab work\n• Banding\n• Bonding\n• Debanding\n• Diagnostic records \nThe requirements for taking the OA Permit course are below:\n• Current RDA (EF) license OR\n• Completed DA program OR\n• Employed under a licensed dentist for a minimum 6 months \nGeneral Information:\n• Class is held once a week for 6 weeks\n• 4-5 hours per session\n• We provide all materials needed in class\n• 32-hour externship (Internship assistance available)\n** Job placement assistance available for students receiving a final grade of 90% or higher ** \nCourse Price: $1\,150.00
URL:https://www.socalorthoassisting.com/event/6-week-orthodontic-assisting-permit-4/
LOCATION:Corona Location\, 710 Rimpau Ave. #201\, Corona\, CA\, 92879\, United States
CATEGORIES:OA Program
ORGANIZER;CN="Southern California Orthodontic Assisting School":MAILTO:info@socalorthoassisting.com
END:VEVENT
BEGIN:VEVENT
DTSTART;TZID=UTC:20240113T130000
DTEND;TZID=UTC:20240113T180000
DTSTAMP:20260425T152125
CREATED:20231129T183403Z
LAST-MODIFIED:20231129T183403Z
UID:14053-1705150800-1705168800@www.socalorthoassisting.com
SUMMARY:8-Hour Infection Control
DESCRIPTION:Receive certification same day!\n\n8 CE units granted upon completion\nApproved by the Dental Board of CA\nGroup discount available!\n\nLearn the principles of infection control with lecture and simulation to achieve optimal safety and prevention of transmissible diseases\n\nBloodborne Pathogens\nHandwashing techniques\nSterilization & Monitoring\nWaterlines Maintenance\nChair Unite Disinfection\nAnd More!\n\nStay in Compliance\, Call Today to Enroll!\n(951) 465-7370
URL:https://www.socalorthoassisting.com/event/8-hour-infection-control-16/
LOCATION:Corona Location\, 710 Rimpau Ave. #201\, Corona\, CA\, 92879\, United States
ORGANIZER;CN="Southern California Orthodontic Assisting School":MAILTO:info@socalorthoassisting.com
END:VEVENT
BEGIN:VEVENT
DTSTART;TZID=UTC:20240115T100000
DTEND;TZID=UTC:20240115T160000
DTSTAMP:20260425T152125
CREATED:20231122T230133Z
LAST-MODIFIED:20231210T175346Z
UID:13984-1705312800-1705334400@www.socalorthoassisting.com
SUMMARY:Orthodontic Dental Assistant Program
DESCRIPTION:Want to have a fulfilling career boosting peoples’ confidence with beautiful straight teeth? Become an Orthodontic Assistant! The Orthodontic Dental Assistant program will help you get your foot in the door to a rewarding career with competitive pay\, tons of demand and opportunity! \n\nTwice a week; Mondays & Wednesdays for 4 months\nPlacement for a 2 month internship at an Orthodontic office near you\nGraduate with the following certificates:\n\n8-Hour Infection Control\nBasic Life Support (CPR) from the American Heart Association\nDental Practice Act\nRadiation Safety (X-ray)\nOrthodontic Dental Assistant Program Certificate of Completion\n\n\n\n  \nCall for more details and to enroll!\n(951) 465-7370
URL:https://www.socalorthoassisting.com/event/orthodontic-dental-assistant-program/
LOCATION:Corona Location\, 710 Rimpau Ave. #201\, Corona\, CA\, 92879\, United States
ORGANIZER;CN="Southern California Orthodontic Assisting School":MAILTO:info@socalorthoassisting.com
END:VEVENT
END:VCALENDAR