BEGIN:VCALENDAR
VERSION:2.0
PRODID:-//Southern California Orthodontic Assisting School - ECPv6.15.13//NONSGML v1.0//EN
CALSCALE:GREGORIAN
METHOD:PUBLISH
X-ORIGINAL-URL:https://www.socalorthoassisting.com
X-WR-CALDESC:Events for Southern California Orthodontic Assisting School
REFRESH-INTERVAL;VALUE=DURATION:PT1H
X-Robots-Tag:noindex
X-PUBLISHED-TTL:PT1H
BEGIN:VTIMEZONE
TZID:UTC
BEGIN:STANDARD
TZOFFSETFROM:+0000
TZOFFSETTO:+0000
TZNAME:UTC
DTSTART:20220101T000000
END:STANDARD
END:VTIMEZONE
BEGIN:VEVENT
DTSTART;TZID=UTC:20231202T080000
DTEND;TZID=UTC:20231202T130000
DTSTAMP:20260425T165749
CREATED:20231004T173547Z
LAST-MODIFIED:20231004T173548Z
UID:13875-1701504000-1701522000@www.socalorthoassisting.com
SUMMARY:8-hour Infection Control
DESCRIPTION:Saturday December 2nd\, 2023 at 1:00PM  \n\nReceive Certificate same day 8 CE unites granted upon completion\nApproved by the Dental Board pf CA\nGroup discounts available\n\nLearn the principles of infection control with lecture and simulation to achieve optimal safety and prevention of transmissible diseases. \n\nBloodborne Pathogens\nHandwashing techniques\nSterilization & Monitoring\nWaterlines Maintenance\nChair Unite Disinfection and More!\n\nStay in Compliance\, Call today to enroll \n(951) 465-7370
URL:https://www.socalorthoassisting.com/event/8-hour-infection-control-14/
LOCATION:Corona Location\, 710 Rimpau Ave. #201\, Corona\, CA\, 92879\, United States
ORGANIZER;CN="Southern California Orthodontic Assisting School":MAILTO:info@socalorthoassisting.com
END:VEVENT
BEGIN:VEVENT
DTSTART;TZID=UTC:20231202T100000
DTEND;TZID=UTC:20231202T140000
DTSTAMP:20260425T165749
CREATED:20231106T040857Z
LAST-MODIFIED:20231127T235939Z
UID:13955-1701511200-1701525600@www.socalorthoassisting.com
SUMMARY:Basic Life Support
DESCRIPTION:Open to the general public! Whether you’re a stay-at-home parent or a health care provider\, anyone can benefit from being CPR certified. Learn how to save a life with us. Accredited with the American Heart Association (AHA)\, your instructor will review proper techniques for CPR & choking on adult\, child & infant victims.\n$60.00 for certification (must bring BLS provider manual to class)\nBLS booklet is $17 if you do not have one\, and can be purchased in person day of class\nCant make this class? Call and sign up for the next one!\nBasic Life Support (BLS) – Southern California Orthodontic Assisting School (socalorthoassisting.com) \n(951)465-7370
URL:https://www.socalorthoassisting.com/event/basic-life-support-12/
LOCATION:CA
END:VEVENT
BEGIN:VEVENT
DTSTART;TZID=UTC:20231202T130000
DTEND;TZID=UTC:20231202T180000
DTSTAMP:20260425T165749
CREATED:20231202T010010Z
LAST-MODIFIED:20231007T203528Z
UID:11073-1701522000-1701540000@www.socalorthoassisting.com
SUMMARY:8-Hour Infection Control
DESCRIPTION:Saturday December 2nd\, 2023 at 1:00PM  \n\nReceive certificate same day 8 CE units granted upon completion\nApproved by the Dental Board of CA\nGroup discounts available\n\nLearn the principles of infection control with MANDATORY in-person lecture and simulation to achieve optimal safety and prevention of transmissible diseases. \n\nBloodborne Pathogens\nHandwashing techniques\nSterilization & Monitoring\nWaterlines Maintenance\nChair Unit Disinfection and More!\n\nStay in Compliance\, Call today to enroll \n(951) 465-7370
URL:https://www.socalorthoassisting.com/event/8-hour-infection-control-10/
LOCATION:Corona Location\, 710 Rimpau Ave. #201\, Corona\, CA\, 92879\, United States
CATEGORIES:OA Program
ORGANIZER;CN="Southern California Orthodontic Assisting School":MAILTO:info@socalorthoassisting.com
END:VEVENT
END:VCALENDAR