BEGIN:VCALENDAR
VERSION:2.0
PRODID:-//Southern California Orthodontic Assisting School - ECPv6.15.13//NONSGML v1.0//EN
CALSCALE:GREGORIAN
METHOD:PUBLISH
X-ORIGINAL-URL:https://www.socalorthoassisting.com
X-WR-CALDESC:Events for Southern California Orthodontic Assisting School
REFRESH-INTERVAL;VALUE=DURATION:PT1H
X-Robots-Tag:noindex
X-PUBLISHED-TTL:PT1H
BEGIN:VTIMEZONE
TZID:UTC
BEGIN:STANDARD
TZOFFSETFROM:+0000
TZOFFSETTO:+0000
TZNAME:UTC
DTSTART:20220101T000000
END:STANDARD
END:VTIMEZONE
BEGIN:VEVENT
DTSTART;TZID=UTC:20231015T120000
DTEND;TZID=UTC:20231015T170000
DTSTAMP:20260425T200708
CREATED:20231008T154809Z
LAST-MODIFIED:20231010T002041Z
UID:13889-1697371200-1697389200@www.socalorthoassisting.com
SUMMARY:8-Hour Infection Control
DESCRIPTION:Receive certification same day!\n\n8 CE units granted upon completion\nApproved by the Dental Board of CA\nGroup discount available!\n\nLearn the Fundamentals of Infection Control: \n\nBloodborne pathogens\nHandwashing techniques\nSterilization & Monitoring\nChair unit disinfection\nAnd more!\n\n 
URL:https://www.socalorthoassisting.com/event/8-hour-infection-control-15/
LOCATION:Corona Location\, 710 Rimpau Ave. #201\, Corona\, CA\, 92879\, United States
CATEGORIES:OA Program
ORGANIZER;CN="Southern California Orthodontic Assisting School":MAILTO:info@socalorthoassisting.com
END:VEVENT
BEGIN:VEVENT
DTSTART;TZID=UTC:20231015T120000
DTEND;TZID=UTC:20231015T170000
DTSTAMP:20260425T200708
CREATED:20231015T120058Z
LAST-MODIFIED:20231008T154617Z
UID:13760-1697371200-1697389200@www.socalorthoassisting.com
SUMMARY:8 Hour Infection Control
DESCRIPTION:Learn the principles of infection control with lecture and simulation to achieve optimal safety and prevention of transmissible diseases.
URL:https://www.socalorthoassisting.com/event/8-hour-infection-control-13/
LOCATION:Corona Location\, 710 Rimpau Ave. #201\, Corona\, CA\, 92879\, United States
CATEGORIES:OA Program
ORGANIZER;CN="Southern California Orthodontic Assisting School":MAILTO:info@socalorthoassisting.com
END:VEVENT
END:VCALENDAR