BEGIN:VCALENDAR
VERSION:2.0
PRODID:-//Southern California Orthodontic Assisting School - ECPv6.15.13//NONSGML v1.0//EN
CALSCALE:GREGORIAN
METHOD:PUBLISH
X-WR-CALNAME:Southern California Orthodontic Assisting School
X-ORIGINAL-URL:https://www.socalorthoassisting.com
X-WR-CALDESC:Events for Southern California Orthodontic Assisting School
REFRESH-INTERVAL;VALUE=DURATION:PT1H
X-Robots-Tag:noindex
X-PUBLISHED-TTL:PT1H
BEGIN:VTIMEZONE
TZID:UTC
BEGIN:STANDARD
TZOFFSETFROM:+0000
TZOFFSETTO:+0000
TZNAME:UTC
DTSTART:20220101T000000
END:STANDARD
END:VTIMEZONE
BEGIN:VEVENT
DTSTART;TZID=UTC:20230930T090000
DTEND;TZID=UTC:20230930T130000
DTSTAMP:20260425T213703
CREATED:20230930T090007Z
LAST-MODIFIED:20230927T205328Z
UID:13756-1696064400-1696078800@www.socalorthoassisting.com
SUMMARY:6-Week Orthodontic Assisting Permit
DESCRIPTION:The Orthodontic Assisting Permit course reviews all core components of orthodontic assisting including but not limited to:\n• Malocclusion\n• Auxiliaries\n• Lab work\n• Banding\n• Bonding\n• Debanding\n• Diagnostic records\nThe requirements for taking the OA Permit course are below:\n• Current RDA (EF) license OR\n• Completed DA program OR\n• Employed under a licensed dentist for a minimum 6 months\nGeneral Information:\n• Class is held once a week for 6 weeks\n• 4-5 hours per session\n• We provide all materials needed in class\n• 32-hour externship (Internship assistance available)\n** Job placement assistance available for students receiving a final grade of 90% or higher **\nCourse Dates:\n\nCourse Price: $1\,150.00
URL:https://www.socalorthoassisting.com/event/6-week-orthodontic-assisting-permit-2/
LOCATION:Corona Location\, 710 Rimpau Ave. #201\, Corona\, CA\, 92879\, United States
CATEGORIES:OA Program
ORGANIZER;CN="Southern California Orthodontic Assisting School":MAILTO:info@socalorthoassisting.com
END:VEVENT
END:VCALENDAR