BEGIN:VCALENDAR
VERSION:2.0
PRODID:-//Southern California Orthodontic Assisting School - ECPv6.15.13//NONSGML v1.0//EN
CALSCALE:GREGORIAN
METHOD:PUBLISH
X-WR-CALNAME:Southern California Orthodontic Assisting School
X-ORIGINAL-URL:https://www.socalorthoassisting.com
X-WR-CALDESC:Events for Southern California Orthodontic Assisting School
REFRESH-INTERVAL;VALUE=DURATION:PT1H
X-Robots-Tag:noindex
X-PUBLISHED-TTL:PT1H
BEGIN:VTIMEZONE
TZID:UTC
BEGIN:STANDARD
TZOFFSETFROM:+0000
TZOFFSETTO:+0000
TZNAME:UTC
DTSTART:20230101T000000
END:STANDARD
END:VTIMEZONE
BEGIN:VEVENT
DTSTART;TZID=UTC:20240629T100000
DTEND;TZID=UTC:20240629T130000
DTSTAMP:20260425T153253
CREATED:20240511T185025Z
LAST-MODIFIED:20240511T185025Z
UID:14294-1719655200-1719666000@www.socalorthoassisting.com
SUMMARY:Basic Life Support
DESCRIPTION:Open to the general public! Whether you’re a stay-at-home parent or a health care provider\, anyone can benefit from being CPR certified. Learn how to save a life with us. Accredited with the American Heart Association (AHA)\, your instructor will review proper techniques for CPR & choking on adult\, child & infant victims. $60.00 for certification (must bring BLS provider manual to class) \nBLS booklet is $19 if you do not have one and can be purchased in person day of class.\nCan’t make this class? \nCall and sign up for the next one!\n(951)465-7370
URL:https://www.socalorthoassisting.com/event/basic-life-support-16/
LOCATION:CA
ORGANIZER;CN="Southern California Orthodontic Assisting School":MAILTO:info@socalorthoassisting.com
END:VEVENT
BEGIN:VEVENT
DTSTART;TZID=UTC:20240629T130000
DTEND;TZID=UTC:20240629T180000
DTSTAMP:20260425T153253
CREATED:20240511T185235Z
LAST-MODIFIED:20240511T185235Z
UID:14296-1719666000-1719684000@www.socalorthoassisting.com
SUMMARY:8-Hour Infection Control
DESCRIPTION:Receive certification same day!\n\n8 CE units granted upon completion\nApproved by the Dental Board of CA\nGroup discount available!\n\nLearn the principles of infection control with lectures and simulations to achieve optimal safety and prevention of transmissible diseases!\n\nBloodborne Pathogens\nHandwashing techniques\nSterilization & Monitoring\nWaterlines Maintenance\nChair Unite Disinfection\nAnd More!\n\nStay in Compliance\, Call Today to Enroll!\n(951) 465-7370
URL:https://www.socalorthoassisting.com/event/8-hour-infection-control-20/
LOCATION:Corona Location\, 710 Rimpau Ave. #201\, Corona\, CA\, 92879\, United States
ORGANIZER;CN="Southern California Orthodontic Assisting School":MAILTO:info@socalorthoassisting.com
END:VEVENT
BEGIN:VEVENT
DTSTART;TZID=UTC:20240714T090000
DTEND;TZID=UTC:20240714T130000
DTSTAMP:20260425T153253
CREATED:20240128T231022Z
LAST-MODIFIED:20240128T231022Z
UID:14104-1720947600-1720962000@www.socalorthoassisting.com
SUMMARY:6-Week Orthodontic Assisting Permit Start Date
DESCRIPTION:The Orthodontic Assisting Permit course reviews all core components of orthodontic assisting including but not limited to:\n• Malocclusion\n• Auxiliaries\n• Lab work\n• Banding\n• Bonding\n• Debanding\n• Diagnostic records \nThe requirements for taking the OA Permit course are below:\n• Current RDA (EF) license OR\n• Completed DA program OR\n• Employed under a licensed dentist for a minimum 6 months \nGeneral Information:\n• Class is held once a week for 6 weeks\n• 4-5 hours per session\n• We provide all materials needed in class\n• 32-hour externship (Internship assistance available)\n** Job placement assistance available for students receiving a final grade of 90% or higher **
URL:https://www.socalorthoassisting.com/event/6-week-orthodontic-assisting-permit-start-date-2-3/
LOCATION:Corona Location\, 710 Rimpau Ave. #201\, Corona\, CA\, 92879\, United States
ORGANIZER;CN="Southern California Orthodontic Assisting School":MAILTO:info@socalorthoassisting.com
END:VEVENT
BEGIN:VEVENT
DTSTART;TZID=UTC:20240714T090000
DTEND;TZID=UTC:20240714T130000
DTSTAMP:20260425T153253
CREATED:20240129T004341Z
LAST-MODIFIED:20240129T004341Z
UID:14125-1720947600-1720962000@www.socalorthoassisting.com
SUMMARY:Ultrasonic Scaling Permit
DESCRIPTION:Band Cement Removal Techniques | Ergomonics | Indications & Contra-Indications of Scaling \n\nBand Cement Removal Techniques\nCertification is required for OAP exam\n4 CE units\n4-hour course\n\nAnd more!!!
URL:https://www.socalorthoassisting.com/event/ultrasonic-scaling-permit-5/
LOCATION:Corona Location\, 710 Rimpau Ave. #201\, Corona\, CA\, 92879\, United States
ORGANIZER;CN="Southern California Orthodontic Assisting School":MAILTO:info@socalorthoassisting.com
END:VEVENT
BEGIN:VEVENT
DTSTART;TZID=UTC:20240725T180000
DTEND;TZID=UTC:20240725T183000
DTSTAMP:20260425T153253
CREATED:20240718T222929Z
LAST-MODIFIED:20240718T222929Z
UID:14389-1721930400-1721932200@www.socalorthoassisting.com
SUMMARY:OA Study Group
DESCRIPTION:Topic: Ortho Study Group \nJoin Zoom Meeting\nhttps://us05web.zoom.us/j/87592041511?pwd=ES558cmkWYslierjHWUZKhKTEwQ9NV.1 \nMeeting ID: 875 9204 1511\nPasscode: OAP2024
URL:https://www.socalorthoassisting.com/event/oa-study-group/
LOCATION:CA
END:VEVENT
BEGIN:VEVENT
DTSTART;TZID=UTC:20240901T090000
DTEND;TZID=UTC:20240901T130000
DTSTAMP:20260425T153253
CREATED:20240129T004517Z
LAST-MODIFIED:20240129T004517Z
UID:14127-1725181200-1725195600@www.socalorthoassisting.com
SUMMARY:Ultrasonic Scaling Permit
DESCRIPTION:Band Cement Removal Techniques | Ergomonics | Indications & Contra-Indications of Scaling \n\nBand Cement Removal Techniques\nCertification is required for OAP exam\n4 CE units\n4-hour course\n\nAnd more!!!
URL:https://www.socalorthoassisting.com/event/ultrasonic-scaling-permit-6/
LOCATION:Corona Location\, 710 Rimpau Ave. #201\, Corona\, CA\, 92879\, United States
ORGANIZER;CN="Southern California Orthodontic Assisting School":MAILTO:info@socalorthoassisting.com
END:VEVENT
BEGIN:VEVENT
DTSTART;TZID=UTC:20240901T140000
DTEND;TZID=UTC:20240901T180000
DTSTAMP:20260425T153253
CREATED:20240128T231413Z
LAST-MODIFIED:20241107T201502Z
UID:14106-1725199200-1725213600@www.socalorthoassisting.com
SUMMARY:Accelerated Orthodontic Assisting Permit Start Date
DESCRIPTION:Morning class: 3 Consecutive Saturdays (Start Time: 10AM) \nNovember 30th \nDecember 7th \nDecember 14th \nThe Orthodontic Assisting Permit course reviews all core components of orthodontic assisting including but not limited to:\n• Malocclusion\n• Auxiliaries\n• Lab work\n• Banding\n• Bonding\n• Debanding\n• Diagnostic records \nThe requirements for taking the OA Permit course are below:\n• Current RDA (EF) license OR\n• Completed DA program OR\n• Employed under a licensed dentist for a minimum of 6 months \nGeneral Information:\n• Sundays for 4 weeks including 2 Saturdays\n• 4-5 hours per session\n• We provide all materials needed in class\n• 32-hour externship (Internship assistance available)\n** Job placement assistance is available for students receiving a final grade of 90% or higher **
URL:https://www.socalorthoassisting.com/event/6-week-orthodontic-assisting-permit-start-date-3/
LOCATION:Corona Location\, 710 Rimpau Ave. #201\, Corona\, CA\, 92879\, United States
ORGANIZER;CN="Southern California Orthodontic Assisting School":MAILTO:info@socalorthoassisting.com
END:VEVENT
BEGIN:VEVENT
DTSTART;TZID=UTC:20240914T100000
DTEND;TZID=UTC:20240914T130000
DTSTAMP:20260425T153253
CREATED:20240909T004320Z
LAST-MODIFIED:20240909T004320Z
UID:14538-1726308000-1726318800@www.socalorthoassisting.com
SUMMARY:Basic Life Support
DESCRIPTION:Open to the general public! Whether you’re a stay-at-home parent or a health care provider\, anyone can benefit from being CPR certified. Learn how to save a life with us. Accredited with the American Heart Association (AHA)\, your instructor will review proper techniques for CPR & choking on adult\, child & infant victims. $60.00 for certification (must bring BLS provider manual to class) \nBLS booklet is $19 if you do not have one and can be purchased in person day of class.\nCan’t make this class? \nCall and sign up for the next one!\n(951)465-7370
URL:https://www.socalorthoassisting.com/event/basic-life-support-18/
LOCATION:Corona Location\, 710 Rimpau Ave. #201\, Corona\, CA\, 92879\, United States
ORGANIZER;CN="Southern California Orthodontic Assisting School":MAILTO:info@socalorthoassisting.com
END:VEVENT
BEGIN:VEVENT
DTSTART;TZID=UTC:20240914T130000
DTEND;TZID=UTC:20240914T170000
DTSTAMP:20260425T153253
CREATED:20240909T004124Z
LAST-MODIFIED:20240909T004124Z
UID:14536-1726318800-1726333200@www.socalorthoassisting.com
SUMMARY:8-Hour Infection Control
DESCRIPTION:Receive certification same day!\n\n\n\n8 CE units granted upon completion\nApproved by the Dental Board of CA\nGroup discount available!\n\nLearn the principles of infection control with lectures and simulations to achieve optimal safety and prevention of transmissible diseases!\n\nBloodborne Pathogens\nHandwashing techniques\nSterilization & Monitoring\nWaterlines Maintenance\nChair Unite Disinfection\nAnd More!\n\nStay in Compliance\, Call Today to Enroll!\n(951) 465-7370
URL:https://www.socalorthoassisting.com/event/8-hour-infection-control-22/
LOCATION:Corona Location\, 710 Rimpau Ave. #201\, Corona\, CA\, 92879\, United States
ORGANIZER;CN="Southern California Orthodontic Assisting School":MAILTO:info@socalorthoassisting.com
END:VEVENT
BEGIN:VEVENT
DTSTART;TZID=UTC:20240923T180000
DTEND;TZID=UTC:20240923T183000
DTSTAMP:20260425T153253
CREATED:20240915T180650Z
LAST-MODIFIED:20240915T180650Z
UID:14548-1727114400-1727116200@www.socalorthoassisting.com
SUMMARY:OAP Study Group
DESCRIPTION:Ortho study group hosted by the Southern California Orthodontic Assisitng School. Join with your fellow orthodontic Assistants. We are here to help you ACE the state exam. Starting @6:00pm \nTo join enter the following ID and Password: \nMeeting ID: 854 4517 7956 \nPasscode: OAP2024 \nWebsite: \nhttps://us05web.zoom.us/j/85445177956?pwd=WHDbwKGa6Y1UKEIcvib8kzXDVte9KK.1
URL:https://www.socalorthoassisting.com/event/oap-study-group/
LOCATION:Online Activity
END:VEVENT
BEGIN:VEVENT
DTSTART;TZID=UTC:20241026T100000
DTEND;TZID=UTC:20241026T130000
DTSTAMP:20260425T153253
CREATED:20240909T003308Z
LAST-MODIFIED:20240909T003308Z
UID:14532-1729936800-1729947600@www.socalorthoassisting.com
SUMMARY:Basic Life Support
DESCRIPTION:Open to the general public! Whether you’re a stay-at-home parent or a health care provider\, anyone can benefit from being CPR certified. Learn how to save a life with us. Accredited with the American Heart Association (AHA)\, your instructor will review proper techniques for CPR & choking on adult\, child & infant victims. $60.00 for certification (must bring BLS provider manual to class) \nBLS booklet is $19 if you do not have one and can be purchased in person day of class.\nCan’t make this class? \nCall and sign up for the next one!\n(951)465-7370
URL:https://www.socalorthoassisting.com/event/basic-life-support-17/
LOCATION:Corona Location\, 710 Rimpau Ave. #201\, Corona\, CA\, 92879\, United States
ORGANIZER;CN="Southern California Orthodontic Assisting School":MAILTO:info@socalorthoassisting.com
END:VEVENT
BEGIN:VEVENT
DTSTART;TZID=UTC:20241027T090000
DTEND;TZID=UTC:20241027T130000
DTSTAMP:20260425T153253
CREATED:20240129T004655Z
LAST-MODIFIED:20240722T165626Z
UID:14129-1730019600-1730034000@www.socalorthoassisting.com
SUMMARY:Ultrasonic Scaling Permit
DESCRIPTION:Band Cement Removal Techniques | Ergomonics | Indications & Contra-Indications of Scaling \n\nBand Cement Removal Techniques\nCertification is required for OAP exam\n4 CE units\n4-hour course\n\nAnd more!!!
URL:https://www.socalorthoassisting.com/event/ultrasonic-scaling-permit-7/
LOCATION:Corona Location\, 710 Rimpau Ave. #201\, Corona\, CA\, 92879\, United States
ORGANIZER;CN="Southern California Orthodontic Assisting School":MAILTO:info@socalorthoassisting.com
END:VEVENT
BEGIN:VEVENT
DTSTART;TZID=UTC:20241027T140000
DTEND;TZID=UTC:20241027T180000
DTSTAMP:20260425T153253
CREATED:20240128T234137Z
LAST-MODIFIED:20240925T174248Z
UID:14108-1730037600-1730052000@www.socalorthoassisting.com
SUMMARY:6-Week Orthodontic Assisting Permit Start Date-Morning FULL-Afternoon Avalable
DESCRIPTION:The Orthodontic Assisting Permit course reviews all core components of orthodontic assisting including but not limited to:\n• Malocclusion\n• Auxiliaries\n• Lab work\n• Banding\n• Bonding\n• Debanding\n• Diagnostic records \nThe requirements for taking the OA Permit course are below:\n• Current RDA (EF) license OR\n• Completed DA program OR\n• Employed under a licensed dentist for a minimum 6 months \nGeneral Information:\n• Class is held once a week for 6 weeks\n• 4-5 hours per session\n• We provide all materials needed in class\n• 32-hour externship (Internship assistance available)\n** Job placement assistance available for students receiving a final grade of 90% or higher **
URL:https://www.socalorthoassisting.com/event/6-week-orthodontic-assisting-permit-start-date-4/
LOCATION:Corona Location\, 710 Rimpau Ave. #201\, Corona\, CA\, 92879\, United States
ORGANIZER;CN="Southern California Orthodontic Assisting School":MAILTO:info@socalorthoassisting.com
END:VEVENT
BEGIN:VEVENT
DTSTART;TZID=UTC:20241116T130000
DTEND;TZID=UTC:20241116T170000
DTSTAMP:20260425T153253
CREATED:20240909T012025Z
LAST-MODIFIED:20240909T012025Z
UID:14542-1731762000-1731776400@www.socalorthoassisting.com
SUMMARY:8-Hour Infection Control
DESCRIPTION:Receive certification same day!\n\n\n\n8 CE units granted upon completion\nApproved by the Dental Board of CA\nGroup discount available!\n\nLearn the principles of infection control with lectures and simulations to achieve optimal safety and prevention of transmissible diseases!\n\nBloodborne Pathogens\nHandwashing techniques\nSterilization & Monitoring\nWaterlines Maintenance\nChair Unite Disinfection\nAnd More!\n\nStay in Compliance\, Call Today to Enroll!\n(951) 465-7370
URL:https://www.socalorthoassisting.com/event/8-hour-infection-control-23/
LOCATION:Corona Location\, 710 Rimpau Ave. #201\, Corona\, CA\, 92879\, United States
ORGANIZER;CN="Southern California Orthodontic Assisting School":MAILTO:info@socalorthoassisting.com
END:VEVENT
BEGIN:VEVENT
DTSTART;TZID=UTC:20241201T090000
DTEND;TZID=UTC:20241201T130000
DTSTAMP:20260425T153253
CREATED:20240128T234433Z
LAST-MODIFIED:20241107T200657Z
UID:14110-1733043600-1733058000@www.socalorthoassisting.com
SUMMARY:6-week Orthodontic Assisting Permit Start Date- FULL
DESCRIPTION:The Orthodontic Assisting Permit course reviews all core components of orthodontic assisting including but not limited to:\n• Malocclusion\n• Auxiliaries\n• Lab work\n• Banding\n• Bonding\n• Debanding\n• Diagnostic records \nThe requirements for taking the OA Permit course are below:\n• Current RDA (EF) license OR\n• Completed DA program OR\n• Employed under a licensed dentist for a minimum 6 months \nGeneral Information:\n• Class is held once a week for 6 weeks\n• 4-5 hours per session\n• We provide all materials needed in class\n• 32-hour externship (Internship assistance available)\n** Job placement assistance available for students receiving a final grade of 90% or higher **
URL:https://www.socalorthoassisting.com/event/6-week-orthodontic-assisting-permit-start-date-5/
LOCATION:Corona Location\, 710 Rimpau Ave. #201\, Corona\, CA\, 92879\, United States
ORGANIZER;CN="Southern California Orthodontic Assisting School":MAILTO:info@socalorthoassisting.com
END:VEVENT
BEGIN:VEVENT
DTSTART;TZID=UTC:20241214T140000
DTEND;TZID=UTC:20241214T180000
DTSTAMP:20260425T153253
CREATED:20240909T003528Z
LAST-MODIFIED:20241107T201141Z
UID:14534-1734184800-1734199200@www.socalorthoassisting.com
SUMMARY:8-Hour Infection Control
DESCRIPTION:Receive certification same day!\n\n8 CE units granted upon completion\nApproved by the Dental Board of CA\nGroup discount available!\n\nLearn the principles of infection control with lectures and simulations to achieve optimal safety and prevention of transmissible diseases!\n\nBloodborne Pathogens\nHandwashing techniques\nSterilization & Monitoring\nWaterlines Maintenance\nChair Unite Disinfection\nAnd More!\n\nStay in Compliance\, Call Today to Enroll!\n(951) 465-7370
URL:https://www.socalorthoassisting.com/event/8-hour-infection-control-21/
LOCATION:CA
ORGANIZER;CN="Southern California Orthodontic Assisting School":MAILTO:info@socalorthoassisting.com
END:VEVENT
BEGIN:VEVENT
DTSTART;TZID=UTC:20250222T100000
DTEND;TZID=UTC:20250222T130000
DTSTAMP:20260425T153253
CREATED:20240909T011856Z
LAST-MODIFIED:20250209T175028Z
UID:14540-1740218400-1740229200@www.socalorthoassisting.com
SUMMARY:Basic Life Support - FULL
DESCRIPTION:Open to the general public! Whether you’re a stay-at-home parent or a health care provider\, anyone can benefit from being CPR certified. Learn how to save a life with us. Accredited with the American Heart Association (AHA)\, your instructor will review proper techniques for CPR & choking on adult\, child & infant victims. $60.00 for certification (must bring BLS provider manual to class) BLS booklet is $19 if you do not have one and can be purchased in person day of class. Can’t make this class? Call and sign up for the next one! (951)465-7370
URL:https://www.socalorthoassisting.com/event/basic-life-support-19/
LOCATION:Corona Location\, 710 Rimpau Ave. #201\, Corona\, CA\, 92879\, United States
ORGANIZER;CN="Southern California Orthodontic Assisting School":MAILTO:info@socalorthoassisting.com
END:VEVENT
BEGIN:VEVENT
DTSTART;TZID=UTC:20250222T130000
DTEND;TZID=UTC:20250222T170000
DTSTAMP:20260425T153253
CREATED:20250202T174152Z
LAST-MODIFIED:20250221T233456Z
UID:14705-1740229200-1740243600@www.socalorthoassisting.com
SUMMARY:8-Hour Infection Control - FULL
DESCRIPTION:Receive certification same day!\n\n8 CE units granted upon completion\nApproved by the Dental Board of CA\nGroup discount available!\n\nLearn the principles of infection control with lectures and simulations to achieve optimal safety and prevention of transmissible diseases!\n\nBloodborne Pathogens\nHandwashing techniques\nSterilization & Monitoring\nWaterlines Maintenance\nChair Unit Disinfection\nAnd More!\n\nStay in Compliance\, Call Today to Enroll!\n(951) 465-7370
URL:https://www.socalorthoassisting.com/event/8-hour-infection-control-24/
LOCATION:CA
ORGANIZER;CN="Southern California Orthodontic Assisting School":MAILTO:info@socalorthoassisting.com
END:VEVENT
BEGIN:VEVENT
DTSTART;TZID=UTC:20250309T090000
DTEND;TZID=UTC:20250309T130000
DTSTAMP:20260425T153253
CREATED:20240129T004812Z
LAST-MODIFIED:20250202T172728Z
UID:14131-1741510800-1741525200@www.socalorthoassisting.com
SUMMARY:Ultrasonic Scaling Permit
DESCRIPTION:Band Cement Removal Techniques | Ergomonics | Indications & Contra-Indications of Scaling \n\nBand Cement Removal Techniques\nCertification is required for OAP exam\n4 CE units\n4-hour course\n\nAnd more!!!
URL:https://www.socalorthoassisting.com/event/ultrasonic-scaling-permit-8/
LOCATION:Corona Location\, 710 Rimpau Ave. #201\, Corona\, CA\, 92879\, United States
ORGANIZER;CN="Southern California Orthodontic Assisting School":MAILTO:info@socalorthoassisting.com
END:VEVENT
BEGIN:VEVENT
DTSTART;TZID=UTC:20250309T090000
DTEND;TZID=UTC:20250309T130000
DTSTAMP:20260425T153253
CREATED:20250202T173724Z
LAST-MODIFIED:20250202T234009Z
UID:14702-1741510800-1741525200@www.socalorthoassisting.com
SUMMARY:6-week Orthodontic Assisting Permit Start Date
DESCRIPTION:The Orthodontic Assisting Permit course reviews all core components of orthodontic assisting including but not limited to:\n• Malocclusion\n• Auxiliaries\n• Lab work\n• Banding\n• Bonding\n• Debanding\n• Diagnostic records \nThe requirements for taking the OA Permit course are below:\n• Current RDA (EF) license OR\n• Completed DA program OR\n• Employed under a licensed dentist for a minimum 6 months \nGeneral Information:\n• Class is held once a week for 6 weeks\n• 4-5 hours per session\n• We provide all materials needed in class\n• 32-hour externship (Internship assistance available)\n** Job placement assistance available for students receiving a final grade of 90% or higher **
URL:https://www.socalorthoassisting.com/event/6-week-orthodontic-assisting-permit-start-date-full/
LOCATION:Corona Location\, 710 Rimpau Ave. #201\, Corona\, CA\, 92879\, United States
ORGANIZER;CN="Southern California Orthodontic Assisting School":MAILTO:info@socalorthoassisting.com
END:VEVENT
BEGIN:VEVENT
DTSTART;TZID=UTC:20250315T100000
DTEND;TZID=UTC:20250315T130000
DTSTAMP:20260425T153253
CREATED:20250209T180107Z
LAST-MODIFIED:20250209T180107Z
UID:14719-1742032800-1742043600@www.socalorthoassisting.com
SUMMARY:Basic Life Support
DESCRIPTION:Open to the general public! Whether you’re a stay-at-home parent or a health care provider\, anyone can benefit from being CPR certified. Learn how to save a life with us. Accredited with the American Heart Association (AHA)\, your instructor will review proper techniques for CPR & choking on adult\, child & infant victims. $60.00 for certification (must bring BLS provider manual to class) BLS booklet is $19 if you do not have one and can be purchased in person day of class. Can’t make this class? Call and sign up for the next one! (951)465-7370
URL:https://www.socalorthoassisting.com/event/basic-life-support-20/
LOCATION:Corona Location\, 710 Rimpau Ave. #201\, Corona\, CA\, 92879\, United States
ORGANIZER;CN="Southern California Orthodontic Assisting School":MAILTO:info@socalorthoassisting.com
END:VEVENT
BEGIN:VEVENT
DTSTART;TZID=UTC:20250315T130000
DTEND;TZID=UTC:20250315T130000
DTSTAMP:20260425T153253
CREATED:20250314T194102Z
LAST-MODIFIED:20250314T194102Z
UID:14760-1742043600-1742043600@www.socalorthoassisting.com
SUMMARY:8-Hour Infection Control
DESCRIPTION:
URL:https://www.socalorthoassisting.com/event/8-hour-infection-control-25/
LOCATION:CA
END:VEVENT
BEGIN:VEVENT
DTSTART;TZID=UTC:20250413T140000
DTEND;TZID=UTC:20250413T140000
DTSTAMP:20260425T153253
CREATED:20250314T194155Z
LAST-MODIFIED:20250314T194155Z
UID:14762-1744552800-1744552800@www.socalorthoassisting.com
SUMMARY:8-Hour Infection Control
DESCRIPTION:
URL:https://www.socalorthoassisting.com/event/8-hour-infection-control-26/
LOCATION:CA
END:VEVENT
BEGIN:VEVENT
DTSTART;TZID=UTC:20250427T090000
DTEND;TZID=UTC:20250427T090000
DTSTAMP:20260425T153253
CREATED:20250314T194803Z
LAST-MODIFIED:20250314T194803Z
UID:14766-1745744400-1745744400@www.socalorthoassisting.com
SUMMARY:Ultrasonic Scaling
DESCRIPTION:
URL:https://www.socalorthoassisting.com/event/ultrasonic-scaling-3/
LOCATION:CA
END:VEVENT
BEGIN:VEVENT
DTSTART;TZID=UTC:20250427T140000
DTEND;TZID=UTC:20250427T140000
DTSTAMP:20260425T153253
CREATED:20250314T194910Z
LAST-MODIFIED:20250314T194910Z
UID:14768-1745762400-1745762400@www.socalorthoassisting.com
SUMMARY:Ultrasonic Scaling
DESCRIPTION:
URL:https://www.socalorthoassisting.com/event/ultrasonic-scaling-4/
LOCATION:CA
END:VEVENT
BEGIN:VEVENT
DTSTART;TZID=UTC:20250427T140000
DTEND;TZID=UTC:20250427T180000
DTSTAMP:20260425T153253
CREATED:20250314T195052Z
LAST-MODIFIED:20250426T021433Z
UID:14770-1745762400-1745776800@www.socalorthoassisting.com
SUMMARY:Orthodontic Assisting Program
DESCRIPTION:The Orthodontic Assisting Permit course reviews all core components of orthodontic assisting including but not limited to:\n• Malocclusion\n• Auxiliaries\n• Lab work\n• Banding\n• Bonding\n• Debanding\n• Diagnostic records \nGeneral Information:\n• Class is held once a week for 6 weeks\n• 4-5 hours per session\n• We provide all materials needed in class\n• 32-hour externship (Internship assistance available)\n** Job placement assistance available for students receiving a final grade of 90% or higher **
URL:https://www.socalorthoassisting.com/event/orthodontic-assisting-program/
LOCATION:Corona Location\, 710 Rimpau Ave. #201\, Corona\, CA\, 92879\, United States
END:VEVENT
BEGIN:VEVENT
DTSTART;TZID=UTC:20250510T100000
DTEND;TZID=UTC:20250510T100000
DTSTAMP:20260425T153253
CREATED:20250315T220911Z
LAST-MODIFIED:20250315T220911Z
UID:14776-1746871200-1746871200@www.socalorthoassisting.com
SUMMARY:BLS
DESCRIPTION:
URL:https://www.socalorthoassisting.com/event/bls/
LOCATION:CA
END:VEVENT
BEGIN:VEVENT
DTSTART;TZID=UTC:20250510T130000
DTEND;TZID=UTC:20250510T130000
DTSTAMP:20260425T153253
CREATED:20250315T221551Z
LAST-MODIFIED:20250426T021137Z
UID:14778-1746882000-1746882000@www.socalorthoassisting.com
SUMMARY:8-Hour Infection Control - FULL
DESCRIPTION:
URL:https://www.socalorthoassisting.com/event/8-hour-infection-control-27/
LOCATION:CA
END:VEVENT
BEGIN:VEVENT
DTSTART;TZID=UTC:20250615T090000
DTEND;TZID=UTC:20250615T130000
DTSTAMP:20260425T153253
CREATED:20250413T190158Z
LAST-MODIFIED:20250413T190158Z
UID:14807-1749978000-1749992400@www.socalorthoassisting.com
SUMMARY:6-Week Orthodontic Assistant Permit Program
DESCRIPTION:The Orthodontic Assisting Permit course reviews all core components of orthodontic assisting including but not limited to:\n• Malocclusion\n• Auxiliaries\n• Lab work\n• Banding\n• Bonding\n• Debanding\n• Diagnostic records \nGeneral Information:\n• Class is held once a week for 6 weeks\n• 4-5 hours per session\n• We provide all materials needed in class\n• 32-hour externship (Internship assistance available)\n** Job placement assistance available for students receiving a final grade of 90% or higher **
URL:https://www.socalorthoassisting.com/event/6-week-orthodontic-assistant-permit-program/
LOCATION:Corona Location\, 710 Rimpau Ave. #201\, Corona\, CA\, 92879\, United States
CATEGORIES:OA Program
ORGANIZER;CN="Southern California Orthodontic Assisting School":MAILTO:info@socalorthoassisting.com
END:VEVENT
BEGIN:VEVENT
DTSTART;TZID=UTC:20250720T100000
DTEND;TZID=UTC:20250720T100000
DTSTAMP:20260425T153253
CREATED:20250701T203026Z
LAST-MODIFIED:20250701T203026Z
UID:14878-1753005600-1753005600@www.socalorthoassisting.com
SUMMARY:Basic Life Support
DESCRIPTION:Open to the general public! Whether you’re a stay-at-home parent or a health care provider\, anyone can benefit from being CPR certified. Learn how to save a life with us. Accredited with the American Heart Association (AHA)\, your instructor will review proper techniques for CPR & choking on adult\, child & infant victims. $60.00 for certification (must bring BLS provider manual to class) BLS booklet is $19 if you do not have one and can be purchased in person day of class. Can’t make this class? Call and sign up for the next one! (951)465-7370
URL:https://www.socalorthoassisting.com/event/basic-life-support-21/
LOCATION:Corona Location\, 710 Rimpau Ave. #201\, Corona\, CA\, 92879\, United States
ORGANIZER;CN="Southern California Orthodontic Assisting School":MAILTO:info@socalorthoassisting.com
END:VEVENT
END:VCALENDAR