BEGIN:VCALENDAR
VERSION:2.0
PRODID:-//Southern California Orthodontic Assisting School - ECPv6.15.13//NONSGML v1.0//EN
CALSCALE:GREGORIAN
METHOD:PUBLISH
X-ORIGINAL-URL:https://www.socalorthoassisting.com
X-WR-CALDESC:Events for Southern California Orthodontic Assisting School
REFRESH-INTERVAL;VALUE=DURATION:PT1H
X-Robots-Tag:noindex
X-PUBLISHED-TTL:PT1H
BEGIN:VTIMEZONE
TZID:UTC
BEGIN:STANDARD
TZOFFSETFROM:+0000
TZOFFSETTO:+0000
TZNAME:UTC
DTSTART:20220101T000000
END:STANDARD
END:VTIMEZONE
BEGIN:VEVENT
DTSTART;TZID=UTC:20231104T100000
DTEND;TZID=UTC:20231104T140000
DTSTAMP:20260424T155728
CREATED:20231104T100044Z
LAST-MODIFIED:20230927T203806Z
UID:13802-1699092000-1699106400@www.socalorthoassisting.com
SUMMARY:Basic Life Support
DESCRIPTION:Open to the general public! Whether you’re a stay-at-home parent or a health care provider\, anyone can benefit from being CPR certified. Learn how to save a life with us. Accredited with the American Heart Association (AHA)\, your instructor will review proper techniques for CPR & choking on adult\, child & infant victims.\n$60.00 for certification (must bring BLS provider manual to class)\nBLS booklet is $17 if you do not have one\, and can be purchased in person day of class\nCant make this class? Call and sign up for the next one!\n(951)465-7370
URL:https://www.socalorthoassisting.com/event/basic-life-support-11/
LOCATION:Corona Location\, 710 Rimpau Ave. #201\, Corona\, CA\, 92879\, United States
CATEGORIES:Renewals,WP Meetups
ORGANIZER;CN="Southern California Orthodontic Assisting School":MAILTO:info@socalorthoassisting.com
END:VEVENT
END:VCALENDAR